BEGIN:VCALENDAR
VERSION:2.0
PRODID:-//CPD News Room - ECPv6.15.20//NONSGML v1.0//EN
CALSCALE:GREGORIAN
METHOD:PUBLISH
X-WR-CALNAME:CPD News Room
X-ORIGINAL-URL:https://coopertownpd.org/cpdwp
X-WR-CALDESC:Events for CPD News Room
REFRESH-INTERVAL;VALUE=DURATION:PT1H
X-Robots-Tag:noindex
X-PUBLISHED-TTL:PT1H
BEGIN:VTIMEZONE
TZID:America/Chicago
BEGIN:DAYLIGHT
TZOFFSETFROM:-0600
TZOFFSETTO:-0500
TZNAME:CDT
DTSTART:20200308T080000
END:DAYLIGHT
BEGIN:STANDARD
TZOFFSETFROM:-0500
TZOFFSETTO:-0600
TZNAME:CST
DTSTART:20201101T070000
END:STANDARD
BEGIN:DAYLIGHT
TZOFFSETFROM:-0600
TZOFFSETTO:-0500
TZNAME:CDT
DTSTART:20210314T080000
END:DAYLIGHT
BEGIN:STANDARD
TZOFFSETFROM:-0500
TZOFFSETTO:-0600
TZNAME:CST
DTSTART:20211107T070000
END:STANDARD
BEGIN:DAYLIGHT
TZOFFSETFROM:-0600
TZOFFSETTO:-0500
TZNAME:CDT
DTSTART:20220313T080000
END:DAYLIGHT
BEGIN:STANDARD
TZOFFSETFROM:-0500
TZOFFSETTO:-0600
TZNAME:CST
DTSTART:20221106T070000
END:STANDARD
END:VTIMEZONE
BEGIN:VEVENT
DTSTART;TZID=America/Chicago:20211010T100000
DTEND;TZID=America/Chicago:20211010T120000
DTSTAMP:20260419T235255
CREATED:20211004T185917Z
LAST-MODIFIED:20211004T190221Z
UID:327-1633860000-1633867200@coopertownpd.org
SUMMARY:Providence Baptist Church and Coopertown Police Host Faith & Blue Weekend Meet & Greet
DESCRIPTION:Sunday\, October 10\, 2021 from noon to 2 PM\, Providence Baptist Church and Coopertown Police Department will host a Meet & Greet event for Faith & Blue weekend. The event is open to anyone and will begin after Sunday service at Providence Baptist Church\, located at 3850 TN-49\, Springfield\, Tennessee 37172. The Meet & Greet event gives the community the opportunity to speak one-on-one with officers from Coopertown Police Department. \nFaith & Blue was founded to promote safer\, stronger\, more just\, and united communities by directly facilitating local relationships between law enforcement personnel\, citizens\, companies\, and community groups through the connections of local faith-based organizations. The program seeks to rebalance police-community relations through solution-focused\, in-person\, socially distant\, and/or virtual events conducted collaboratively by faith-based or other community groups and law enforcement agencies (Faith & Blue\, 2021). \nFor more information\, visit Providence Baptist Church and Coopertown Police Host Faith & Blue Weekend Meet & Greet \nReferences \nFaith & Blue. (2021). About. https://faithandblue.org/about/
URL:https://coopertownpd.org/cpdwp/event/providence-baptist-church-and-coopertown-police-host-faith-blue-weekend-meet-greet/
LOCATION:Providence Baptist Church\, 3850 TN-49\, Springfield\, TN\, 37172\, United States
CATEGORIES:Community Engagement
ORGANIZER;CN="Coopertown Police Department":MAILTO:parker@coopertowntn.org
END:VEVENT
BEGIN:VEVENT
DTSTART;TZID=America/Chicago:20210925T080000
DTEND;TZID=America/Chicago:20210925T140000
DTSTAMP:20260419T235255
CREATED:20210331T233241Z
LAST-MODIFIED:20210918T043806Z
UID:95-1632556800-1632578400@coopertownpd.org
SUMMARY:Coopertown Police Department's Touch-A-Truck Event
DESCRIPTION:Join Coopertown in celebrating the 25th year since incorporating. The celebration begins at 10:00 a.m. at Coopertown Middle School with the final mile of the “25 in 25 for Coopertown” walk. \nThe event includes:\n* Touch a Truck – hosted by the Coopertown Police Department\, featuring various First Responder vehicles from agencies that provide services to the Coopertown community and much more!! \n* Live Music – including:\n– 10:00 a.m. – November South\n– 11:00 a.m. – Austin Williams\n– 1:00 p.m. – Wells Valley Boys \n* Food Trucks\n– Sydnor Brothers BBQ\n– Golly G’s\n– Sno Monkey Snow Cones\n– Whitts BBQ \n* Vendors: local artisans\, businesses and more \n* 3:00 p.m. the Winner of the People’s Choice award of the Coopertown Photography Contest will be announced.\nand more… \nWe hope that you will make plans to join us on this special day. \nShare the event with everyone on your friends list\, grab your family and come out and celebrate your hometown!
URL:https://coopertownpd.org/cpdwp/event/coopertown-police-departments-touch-a-truck-event/
LOCATION:Coopertown Middle School\, 3820 TN-49\, Coopertown\, TN\, 37172\, United States
CATEGORIES:Community Engagement
ATTACH;FMTTYPE=image/png:https://coopertownpd.org/cpdwp/wp-content/uploads/2021/03/Touch-A-Truck-Flyer-rev1.0.png
ORGANIZER;CN="Coopertown Police Department":MAILTO:sgtparker@coopertowntn.org
END:VEVENT
END:VCALENDAR